BEGIN:VCALENDAR
VERSION:2.0
PRODID:-//eventon.com NONSGML v1.0//EN
CALSCALE:GREGORIAN
METHOD:PUBLISH
BEGIN:VEVENT
UID:69eccb7faa215
DTSTAMP:20260425T141111Z
DTSTART:20261024T160000Z
DTEND:20261024T200000Z
LOCATION:
SUMMARY:Strašihrad
DESCRIPTION:Strašihrad\nhttps://hradmodrykamen.sk/events/strasihrad-2/
URL:https://hradmodrykamen.sk/events/strasihrad-2/
END:VEVENT
END:VCALENDAR