BEGIN:VCALENDAR
VERSION:2.0
PRODID:-//eventon.com NONSGML v1.0//EN
CALSCALE:GREGORIAN
METHOD:PUBLISH
BEGIN:VEVENT
UID:69eccbd14a161
DTSTAMP:20260425T141233Z
DTSTART:20260926T090000Z
DTEND:20260926T170000Z
LOCATION:
SUMMARY:Deň hrania na hrade
DESCRIPTION:Deň hrania na hrade\nhttps://hradmodrykamen.sk/events/den-hran
 ia-na-hrade/
URL:https://hradmodrykamen.sk/events/den-hrania-na-hrade/
END:VEVENT
END:VCALENDAR