BEGIN:VCALENDAR
VERSION:2.0
PRODID:-//eventon.com NONSGML v1.0//EN
CALSCALE:GREGORIAN
METHOD:PUBLISH
BEGIN:VEVENT
UID:69eccb2d698b0
DTSTAMP:20260425T140949Z
DTSTART:20260815T170000Z
DTEND:20260815T220000Z
LOCATION:
SUMMARY:Nočné letné prechádzky na hrade
DESCRIPTION:Nočné letné prechádzky na hrade\nhttps://hradmodrykamen.sk/
 events/nocne-letne-prechadzky-na-hrade/
URL:https://hradmodrykamen.sk/events/nocne-letne-prechadzky-na-hrade/
END:VEVENT
END:VCALENDAR