BEGIN:VCALENDAR
VERSION:2.0
PRODID:-//eventon.com NONSGML v1.0//EN
CALSCALE:GREGORIAN
METHOD:PUBLISH
BEGIN:VEVENT
UID:69eccb2d232e4
DTSTAMP:20260425T140949Z
DTSTART:20260403T090000Z
DTEND:20260406T170000Z
LOCATION:
SUMMARY:Veľká noc na hrade Modrý Kameň
DESCRIPTION:Veľká noc na hrade Modrý Kameň\nhttps://hradmodrykamen.sk/e
 vents/velka-noc-na-hrade-modry-kamen-2/
URL:https://hradmodrykamen.sk/events/velka-noc-na-hrade-modry-kamen-2/
END:VEVENT
END:VCALENDAR