BEGIN:VCALENDAR
VERSION:2.0
PRODID:-//eventon.com NONSGML v1.0//EN
CALSCALE:GREGORIAN
METHOD:PUBLISH
BEGIN:VEVENT
UID:69eccb005b0c5
DTSTAMP:20260425T140904Z
DTSTART:20261010T100000Z
DTEND:20261010T180000Z
LOCATION:
SUMMARY:Gaštanové hradné hody
DESCRIPTION:Gaštanové hradné hody\nhttps://hradmodrykamen.sk/events/gast
 anove-hradne-hody/
URL:https://hradmodrykamen.sk/events/gastanove-hradne-hody/
END:VEVENT
END:VCALENDAR