BEGIN:VCALENDAR
VERSION:2.0
PRODID:-//eventon.com NONSGML v1.0//EN
CALSCALE:GREGORIAN
METHOD:PUBLISH
BEGIN:VEVENT
UID:69eccb005b1ad
DTSTAMP:20260425T140904Z
DTSTART:20260720T090000Z
DTEND:20261016T160000Z
LOCATION:
SUMMARY:Historické hračky z prelomu 19. a 20. storočia
DESCRIPTION:Historické hračky z prelomu 19. a 20. storočia\nhttps://hr
 admodrykamen.sk/events/historicke-hracky-z-prelomu-19-a-20-storocia/
URL:https://hradmodrykamen.sk/events/historicke-hracky-z-prelomu-19-a-20-storocia/
END:VEVENT
END:VCALENDAR