BEGIN:VCALENDAR
VERSION:2.0
PRODID:-//eventon.com NONSGML v1.0//EN
CALSCALE:GREGORIAN
METHOD:PUBLISH
BEGIN:VEVENT
UID:69eccb95078d7
DTSTAMP:20260425T141133Z
DTSTART:20260420T090000Z
DTEND:20260719T160000Z
LOCATION:
SUMMARY:Kalifragia = krasopis - VÝSTAVA
DESCRIPTION:Kalifragia = krasopis - VÝSTAVA\nhttps://hradmodrykamen.sk/eve
 nts/kalifragia-krasopis-vystava/
URL:https://hradmodrykamen.sk/events/kalifragia-krasopis-vystava/
END:VEVENT
END:VCALENDAR