BEGIN:VCALENDAR
VERSION:2.0
PRODID:-//eventon.com NONSGML v1.0//EN
CALSCALE:GREGORIAN
METHOD:PUBLISH
BEGIN:VEVENT
UID:69eccb95078e0
DTSTAMP:20260425T141133Z
DTSTART:20260803T070000Z
DTEND:20260807T170000Z
LOCATION:
SUMMARY:Denný prázdninový tábor
DESCRIPTION:Denný prázdninový tábor\nhttps://hradmodrykamen.sk/events/d
 enny-prazdninovy-tabor-2/
URL:https://hradmodrykamen.sk/events/denny-prazdninovy-tabor-2/
END:VEVENT
END:VCALENDAR