BEGIN:VCALENDAR
VERSION:2.0
PRODID:-//eventon.com NONSGML v1.0//EN
CALSCALE:GREGORIAN
METHOD:PUBLISH
BEGIN:VEVENT
UID:69eccb7f9f504
DTSTAMP:20260425T141111Z
DTSTART:20260706T070000Z
DTEND:20260710T170000Z
LOCATION:
SUMMARY:Denný prázdninový tábor
DESCRIPTION:Denný prázdninový tábor\nhttps://hradmodrykamen.sk/events/d
 enny-prazdninovy-tabor/
URL:https://hradmodrykamen.sk/events/denny-prazdninovy-tabor/
END:VEVENT
END:VCALENDAR