BEGIN:VCALENDAR
VERSION:2.0
PRODID:-//eventon.com NONSGML v1.0//EN
CALSCALE:GREGORIAN
METHOD:PUBLISH
BEGIN:VEVENT
UID:69eccb85153d2
DTSTAMP:20260425T141117Z
DTSTART:20260527T080000Z
DTEND:20260529T140000Z
LOCATION:
SUMMARY:Dni detí
DESCRIPTION:Dni detí\nhttps://hradmodrykamen.sk/events/dni-deti/
URL:https://hradmodrykamen.sk/events/dni-deti/
END:VEVENT
END:VCALENDAR