BEGIN:VCALENDAR
VERSION:2.0
PRODID:-//eventon.com NONSGML v1.0//EN
CALSCALE:GREGORIAN
METHOD:PUBLISH
BEGIN:VEVENT
UID:69eccb853ec05
DTSTAMP:20260425T141117Z
DTSTART:20260522T130000Z
DTEND:20260522T160000Z
LOCATION:
SUMMARY:Balašova pieseň
DESCRIPTION:Balašova pieseň\nhttps://hradmodrykamen.sk/events/balasova-pi
 esen-2/
URL:https://hradmodrykamen.sk/events/balasova-piesen-2/
END:VEVENT
END:VCALENDAR