BEGIN:VCALENDAR
VERSION:2.0
PRODID:-//eventon.com NONSGML v1.0//EN
CALSCALE:GREGORIAN
METHOD:PUBLISH
BEGIN:VEVENT
UID:69eccb708b50e
DTSTAMP:20260425T141056Z
DTSTART:20260523T170000Z
DTEND:20260523T210000Z
LOCATION:
SUMMARY:Noc múzeí a galérií
DESCRIPTION:Noc múzeí a galérií\nhttps://hradmodrykamen.sk/events/noc-
 muzei-a-galerii-2/
URL:https://hradmodrykamen.sk/events/noc-muzei-a-galerii-2/
END:VEVENT
END:VCALENDAR