BEGIN:VCALENDAR
VERSION:2.0
PRODID:-//eventon.com NONSGML v1.0//EN
CALSCALE:GREGORIAN
METHOD:PUBLISH
BEGIN:VEVENT
UID:69eccaf554bdd
DTSTAMP:20260425T140853Z
DTSTART:20260515T090000Z
DTEND:20260515T160000Z
LOCATION:
SUMMARY:Bitka pri Moháči–počiatky jarma
DESCRIPTION:Bitka pri Moháči–počiatky jarma\nhttps://hradmodrykamen.sk
 /events/bitka-pri-mohaci-pociatky-jarma/
URL:https://hradmodrykamen.sk/events/bitka-pri-mohaci-pociatky-jarma/
END:VEVENT
END:VCALENDAR