BEGIN:VCALENDAR
VERSION:2.0
PRODID:-//eventon.com NONSGML v1.0//EN
CALSCALE:GREGORIAN
METHOD:PUBLISH
BEGIN:VEVENT
UID:69eccb708ba91
DTSTAMP:20260425T141056Z
DTSTART:20260206T080000Z
DTEND:20260410T130000Z
LOCATION:
SUMMARY:Záhrada žien - Soňa Krajčovičová a Miroslav Bezák
DESCRIPTION:Slovenské národné múzeum – Múzeum bábkarských kultúr 
 a hračiek\,  hrad Modrý Kameň Vás pozýva na výstavu „Záhrada žien
 “\,  ktorá predstavuje spoločnú prezentáciu tvorby výtvarníčky Son
 i Krajčovičovej a akademického maliara Miroslava Bezáka. Výstava bude 
 sprístupnená vo výstavných priestoroch barokovej sály na hrade Modrý 
 Kameň. Soňa Krajčovičová je neprofesionálna výtvarníčka\,  ktorá 
 sa[..]\nhttps://hradmodrykamen.sk/events/zahrada-zien-sona-krajcovicova-a-m
 iroslav-bezak/
URL:https://hradmodrykamen.sk/events/zahrada-zien-sona-krajcovicova-a-miroslav-bezak/
END:VEVENT
END:VCALENDAR